BEGIN:VCALENDAR
VERSION:2.0
PRODID:-//Tukios.com/
BEGIN:VEVENT
UID:66284846-a039-4220-b7ec-76efd6f51f72@www.mulhearnfuneralhome.com
DTSTAMP:20260424T230803Z
DTSTART:20260425T170000Z
DTEND:20260425T190000Z
SUMMARY:Visitation
DESCRIPTION:
URL:https://www.mulhearnfuneralhome.com/obituaries/abigail-guiterrez
LOCATION: 336 Rowland Rd  Monroe LA 71203
GEO:32.5408778;-92.0086247
END:VEVENT
END:VCALENDAR