BEGIN:VCALENDAR
VERSION:2.0
PRODID:-//Tukios.com/
BEGIN:VEVENT
UID:f84af4fa-a4b1-418b-8bc8-53ff2058caba@www.mulhearnfuneralhome.com
DTSTAMP:20260424T230513Z
DTSTART:20260425T190000Z
DTEND:20260425T200000Z
SUMMARY:Funeral Service
DESCRIPTION:
URL:https://www.mulhearnfuneralhome.com/obituaries/abigail-guiterrez
LOCATION: 336 Rowland Rd  Monroe LA 71203
GEO:32.5408778;-92.0086247
END:VEVENT
END:VCALENDAR