BEGIN:VCALENDAR
VERSION:2.0
PRODID:-//Tukios.com/
BEGIN:VEVENT
UID:48635894-e08d-41e9-b2f1-bb6699199294@www.mulhearnfuneralhome.com
DTSTAMP:20260424T230810Z
DTSTART:20260425
SUMMARY:Interment
DESCRIPTION:
URL:https://www.mulhearnfuneralhome.com/obituaries/abigail-guiterrez
LOCATION: 623 US-80  Monroe LA 71203
GEO:32.533795;-92.019977
END:VEVENT
END:VCALENDAR