BEGIN:VCALENDAR
VERSION:2.0
PRODID:-//Tukios.com/
BEGIN:VEVENT
UID:18f46310-337c-4c27-91c1-37c65c01d5d1@www.mulhearnfuneralhome.com
DTSTAMP:20260425T020554Z
DTSTART:20260427T180000Z
DTEND:20260427T190000Z
SUMMARY:Funeral Mass
DESCRIPTION:
URL:https://www.mulhearnfuneralhome.com/obituaries/audury-hawsey
LOCATION: 2510 Emerson St  Monroe LA 71201
GEO:32.5452725;-92.1156458
END:VEVENT
END:VCALENDAR