BEGIN:VCALENDAR
VERSION:2.0
PRODID:-//Tukios.com/
BEGIN:VEVENT
UID:4f12b106-e6df-4d2e-b4e5-f4f2b5434807@www.mulhearnfuneralhome.com
DTSTAMP:20260422T214857Z
DTSTART:20260423T190000Z
DTEND:20260423T200000Z
SUMMARY:Funeral Service
DESCRIPTION:
URL:https://www.mulhearnfuneralhome.com/obituaries/harriett-flanagan
LOCATION:Mulhearn Funeral Home 300 McMillan Road  West Monroe LA 71291
GEO:32.5155216;-92.1516783
END:VEVENT
END:VCALENDAR