BEGIN:VCALENDAR
VERSION:2.0
PRODID:-//Tukios.com/
BEGIN:VEVENT
UID:060dea19-3991-4ffd-833f-90a56fd3304d@www.mulhearnfuneralhome.com
DTSTAMP:20260422T215126Z
DTSTART:20260423T180000Z
DTEND:20260423T190000Z
SUMMARY:Visitation
DESCRIPTION:
URL:https://www.mulhearnfuneralhome.com/obituaries/harriett-flanagan
LOCATION:Mulhearn Funeral Home 300 McMillan Road  West Monroe LA 71291
GEO:32.5155216;-92.1516783
END:VEVENT
END:VCALENDAR