BEGIN:VCALENDAR
VERSION:2.0
PRODID:-//Tukios.com/
BEGIN:VEVENT
UID:06c804c4-d6c7-4f6c-acbe-4d8181b6532d@www.mulhearnfuneralhome.com
DTSTAMP:20260422T004649Z
DTSTART:20260423T220000Z
DTEND:20260424T000000Z
SUMMARY:Visitation
DESCRIPTION:
URL:https://www.mulhearnfuneralhome.com/obituaries/janette-taunton
LOCATION:Mulhearn Funeral Home 300 McMillan Road  West Monroe LA 71291
GEO:32.5155216;-92.1516783
END:VEVENT
END:VCALENDAR