BEGIN:VCALENDAR
VERSION:2.0
PRODID:-//Tukios.com/
BEGIN:VEVENT
UID:922c3a3d-ddf8-461f-9203-63f914e4feb8@www.mulhearnfuneralhome.com
DTSTAMP:20260422T004649Z
DTSTART:20260424T160000Z
DTEND:20260424T170000Z
SUMMARY:Funeral Service
DESCRIPTION:
URL:https://www.mulhearnfuneralhome.com/obituaries/janette-taunton
LOCATION:Farmerville First Methodist Church 301 Anthony Street  
	Farmerville LA 71241
GEO:32.7778277;-92.4071242
END:VEVENT
END:VCALENDAR