BEGIN:VCALENDAR
VERSION:2.0
PRODID:-//Tukios.com/
BEGIN:VEVENT
UID:b16ac8ba-2271-4378-b235-dc13994a66a0@www.mulhearnfuneralhome.com
DTSTAMP:20260422T004506Z
DTSTART:20260424
SUMMARY:Interment
DESCRIPTION:
URL:https://www.mulhearnfuneralhome.com/obituaries/janette-taunton
LOCATION: W. Franklin St.  Farmerville LA 71241
GEO:32.7756024;-92.4087685
END:VEVENT
END:VCALENDAR