BEGIN:VCALENDAR
VERSION:2.0
PRODID:-//Tukios.com/
BEGIN:VEVENT
UID:9a50b040-3b42-4220-b842-03c2b8da7312@www.mulhearnfuneralhome.com
DTSTAMP:20260421T223011Z
DTSTART:20260423T190000Z
DTEND:20260423T210000Z
SUMMARY:Visitation
DESCRIPTION:
URL:https://www.mulhearnfuneralhome.com/obituaries/lori-edwards
LOCATION: 507 Foster Street  Rayville LA 71269
GEO:32.4692759;-91.7541479
END:VEVENT
END:VCALENDAR