BEGIN:VCALENDAR
VERSION:2.0
PRODID:-//Tukios.com/
BEGIN:VEVENT
UID:aeb979da-aab4-4b64-a219-3e732d1aa9b0@www.mulhearnfuneralhome.com
DTSTAMP:20260425T015555Z
DTSTART:20260427T170000Z
DTEND:20260427T180000Z
SUMMARY:Interment
DESCRIPTION:
URL:https://www.mulhearnfuneralhome.com/obituaries/sandra-adams
LOCATION: 24 Stone Street  Rayville LA 71269
GEO:32.46333;-91.75639
END:VEVENT
END:VCALENDAR