BEGIN:VCALENDAR
VERSION:2.0
PRODID:-//Tukios.com/
BEGIN:VEVENT
UID:7beb7ada-58e3-4416-81ed-d304e30c4790@www.mulhearnfuneralhome.com
DTSTAMP:20260421T174907Z
DTSTART:20260523T190000Z
DTEND:20260523T200000Z
SUMMARY:Memorial Service
DESCRIPTION:
URL:https://www.mulhearnfuneralhome.com/obituaries/sara-penton
LOCATION:Memorial Park Cemetery and Chapel Mausoleum U.S. 80  Monroe LA 
	71203
GEO:32.5265575;-91.9958832
END:VEVENT
END:VCALENDAR