BEGIN:VCALENDAR
VERSION:2.0
PRODID:-//Tukios.com/
BEGIN:VEVENT
UID:54618f77-faa4-48c1-8256-cd35c2d4bbbd@www.mulhearnfuneralhome.com
DTSTAMP:20260423T003941Z
DTSTART:20260424T180000Z
DTEND:20260424T193000Z
SUMMARY:Visitation
DESCRIPTION:
URL:https://www.mulhearnfuneralhome.com/obituaries/tommie-cumpton
LOCATION: 2308 Sterlington Road  Monroe LA 71203
GEO:32.542851;-92.0773274
END:VEVENT
END:VCALENDAR