BEGIN:VCALENDAR
VERSION:2.0
PRODID:-//Tukios.com/
BEGIN:VEVENT
UID:ba6b531d-1a81-4be1-889b-40f9a38d9d6e@www.mulhearnfuneralhome.com
DTSTAMP:20260423T004111Z
DTSTART:20260424T200000Z
DTEND:20260424T210000Z
SUMMARY:Graveside Service
DESCRIPTION:
URL:https://www.mulhearnfuneralhome.com/obituaries/tommie-cumpton
LOCATION: Hwy 133 N  Start LA 71279
GEO:32.4862173;-91.8598192
END:VEVENT
END:VCALENDAR